BEGIN:VCALENDAR
PRODID:-//eluceo/ical//2.0/EN
VERSION:2.0
CALSCALE:GREGORIAN
BEGIN:VEVENT
UID:7e0fac8a01478180f46aac24cbc74adf
DTSTAMP:20260421T153123Z
SUMMARY:A Temple Sinai Program — Toronto Jewish Chorus
DESCRIPTION:UJA Federation of Greater Toronto\nJewish Toronto Calendar\nhtt
 ps://jewishtoronto.com/calendar/a-temple-sinai-program--toronto-jewish-cho
 rus-1460474342\n\nA Temple Sinai Program — Toronto Jewish Chorus\nOnce a
 gain the voices of the Toronto Jewish Chorus\, under the direction of Judy
  Adelman Gershon\, will be uniting in harmony to bring us an evening fille
 d with songs that we know and love\, and a few special guests from the Tor
 onto music scene. This magical\, musical evening will have you dancing in 
 your seats. We hope you can join us. Time: 7:30 p.m. Cost: $25 (includes b
 us transportation from Temple Sinai\, 210 Wilson Avenue to St. Michael’s
  C...
DTSTART;TZID=America/Toronto:20160524T193000
DTEND;TZID=America/Toronto:20160524T220000
END:VEVENT
END:VCALENDAR
