BEGIN:VCALENDAR
PRODID:-//eluceo/ical//2.0/EN
VERSION:2.0
CALSCALE:GREGORIAN
BEGIN:VEVENT
UID:ac08ccba5318a4760766e4acddc80b02
DTSTAMP:20260419T221847Z
SUMMARY:A Temple Sinai Program — Telecast with Joel Grey: Master of Cerem
 onies 
DESCRIPTION:UJA Federation of Greater Toronto\nJewish Toronto Calendar\nhtt
 ps://jewishtoronto.com/calendar/a-temple-sinai-program--telecast-with-joel
 -grey-master-of-ceremonies-1453912452\n\nFor more than 60 years\, the acto
 r\, singer and dancer Joel Grey has delighted audiences on stage\, film an
 d television. He won an Oscar\, a Tony and a Golden Globe award for his ic
 onic role as a Master of Ceremonies in Cabaret. Join him for an intimate c
 onversation about his life\, as told in his new memoir\, Master of Ceremon
 ies — his journey from Cleveland to Broadway and Hollywood\; his persona
 l story\; coming out at the age of 82\; his work as a photographer\; and w
 hat’s next for Joel Grey. In ce...
DTSTART;TZID=America/Toronto:20160216T193000
DTEND;TZID=America/Toronto:20160216T213000
END:VEVENT
END:VCALENDAR
