BEGIN:VCALENDAR
PRODID:-//eluceo/ical//2.0/EN
VERSION:2.0
CALSCALE:GREGORIAN
BEGIN:VEVENT
UID:e7fc56518029f439a43a1cbf5ccb86e2
DTSTAMP:20260421T142943Z
SUMMARY:A Temple Sinai Program — Sushi in the Sukkah (Young Adults 22 to 
 39)
DESCRIPTION:UJA Federation of Greater Toronto\nJewish Toronto Calendar\nhtt
 ps://jewishtoronto.com/calendar/a-temple-sinai-program--sushi-in-the-sukka
 h-young-adults-22-to-39-1475692165\n\nMonday\, October 17 A Temple Sinai P
 rogram — Sushi in the Sukkah (Young Adults 22 to 39) It is now our tradi
 tion to welcome Sukkot with a sushi party. Come and celebrate Sukkot with 
 a sukkah feast\, hosted by Rabbi Michael and Joan Dolgin. Join friends new
  and old as we honour this festival of thanksgiving in style. Bring your l
 ulav and chopsticks! Time: 7:00 p.m. For location and to register\, please
  e-mail Hayley at hayley@templesinai.net.
DTSTART;TZID=America/Toronto:20161017T190000
DTEND;TZID=America/Toronto:20161017T220000
END:VEVENT
END:VCALENDAR
