BEGIN:VCALENDAR
PRODID:-//eluceo/ical//2.0/EN
VERSION:2.0
CALSCALE:GREGORIAN
BEGIN:VEVENT
UID:1200adf3643e8bc0d03b8d8569e9eb8c
DTSTAMP:20260422T105129Z
SUMMARY:A Temple Sinai Program — Sounds of Chanukkah
DESCRIPTION:UJA Federation of Greater Toronto\nJewish Toronto Calendar\nhtt
 ps://jewishtoronto.com/calendar/a-temple-sinai-program--sounds-of-chanukka
 h-1479750796\n\nSunday\, December 11 A Temple Sinai Program — Sounds of 
 Chanukkah Let’s join our friends at Thorne Mill on Steeles (484 Steeles 
 Avenue West) for a special Chanukkah service. Our focus will be identifyin
 g hope\, comfort and the courage to face life’s challenges. Cantor Charl
 es Osborne and the Temple Sinai Ensemble Choir will inspire us with their 
 music while Rabbi Daniel Mikelberg delivers words of strength. Time: 1:30 
 p.m. For more information or to reserve\, please call the Temple Office ..
 .
DTSTART;TZID=America/Toronto:20161211T133000
DTEND;TZID=America/Toronto:20161211T150000
END:VEVENT
END:VCALENDAR
