BEGIN:VCALENDAR
PRODID:-//eluceo/ical//2.0/EN
VERSION:2.0
CALSCALE:GREGORIAN
BEGIN:VEVENT
UID:da4c524d2accc9284b8a16255fbc06f8
DTSTAMP:20260423T074230Z
SUMMARY:A Temple Sinai Program:  S'lichot is Back! In-Person and Virtual
DESCRIPTION:UJA Federation of Greater Toronto\nJewish Toronto Calendar\nhtt
 ps://jewishtoronto.com/calendar/a-temple-sinai-program--slichot-is-back-in
 -person-and-virtual-1662135500\n\nA Temple Sinai Program: S'lichot is Back
 ! In-Person and Virtual\nSaturday\, September 17 at 9.00 p.m.\n\nCreated i
 n partnership with the Harold Green Jewish Theatre Company\, our internati
 onally acclaimed S'lichot services have broken down the barriers between s
 ynagogue and theatre. This is an experience combining show and shul that i
 s gripping\, meaningful and thought provoking.\n\nJoin us in our newly ren
 ovated Green Family Sanctuary as we greet our new Cantor\, Meara Lebovitz\
 , and welcome back...
DTSTART;TZID=America/Toronto:20220917T210000
DTEND;TZID=America/Toronto:20220917T223000
END:VEVENT
END:VCALENDAR
