BEGIN:VCALENDAR
PRODID:-//eluceo/ical//2.0/EN
VERSION:2.0
CALSCALE:GREGORIAN
BEGIN:VEVENT
UID:84ec61491fc3655995012972b71ff0df
DTSTAMP:20260424T012258Z
SUMMARY:A Temple Sinai Program - S’lichot
DESCRIPTION:UJA Federation of Greater Toronto\nJewish Toronto Calendar\nhtt
 ps://jewishtoronto.com/calendar/a-temple-sinai-program--slichot-1472154982
 \n\nSaturday\, September 24\nA Temple Sinai Program — S’lichot — A s
 piritual\, dramatic way to prepare for the High Holy Days.\nS’lichot ser
 vices\, in collaboration with the Harold Green Jewish Theatre Company\, is
  a new paradigm of Jewish worship. Neither shul nor theatre\, this worship
  event sets new benchmarks for engaging\, compelling\, moving and thought 
 provoking involvement on the part of the congregation. This year’s S’l
 ichot will include a reflection on the legacy of Elie Weisel and...
DTSTART;TZID=America/Toronto:20160924T210000
DTEND;TZID=America/Toronto:20160924T230000
END:VEVENT
END:VCALENDAR
