BEGIN:VCALENDAR
PRODID:-//eluceo/ical//2.0/EN
VERSION:2.0
CALSCALE:GREGORIAN
BEGIN:VEVENT
UID:24f18c9be4e5b72f64b3df2573ad7b51
DTSTAMP:20260422T223053Z
SUMMARY:A Temple Sinai Program — Shabbat Shirim Shabbat at Sinai
DESCRIPTION:UJA Federation of Greater Toronto\nJewish Toronto Calendar\nhtt
 ps://jewishtoronto.com/calendar/a-temple-sinai-program--shabbat-shirim-sha
 bbat-at-sinai-1508957625\n\nStart your Shabbat celebrations with the warm 
 inviting sound of our soulful musical ensemble. Reflect on the week that h
 as passed with thought-provoking questions that relate to the season. Grow
  with the community as these reflections are woven into the service. Bring
  your friends and family and the will to sing! Time: At 7:30 p.m.\, enjoy 
 a sampling of spiritual and real hors d’oeuvres and meet and share stori
 es with your Temple family. Then welcome Shabbat at 7:45 p.m. with a multi
 generati...
DTSTART;TZID=America/Toronto:20171201T193000
DTEND;TZID=America/Toronto:20171201T210000
END:VEVENT
END:VCALENDAR
