BEGIN:VCALENDAR
PRODID:-//eluceo/ical//2.0/EN
VERSION:2.0
CALSCALE:GREGORIAN
BEGIN:VEVENT
UID:b2405a0d4aba251ddb08ebdca8fe64f3
DTSTAMP:20260424T095627Z
SUMMARY:A Temple Sinai Program — Shabbat Shirim
DESCRIPTION:UJA Federation of Greater Toronto\nJewish Toronto Calendar\nhtt
 ps://jewishtoronto.com/calendar/a-temple-sinai-program--shabbat-shirim-150
 6791791\n\nStart your Shabbat celebrations with the warm inviting sound of
  our soulful musical ensemble. Reflect on the week that has passed with th
 ought-provoking questions that relate to the season. Grow with the communi
 ty as these reflections are woven into the service. Bring your friends and
  family and the will to sing! Time: 6:15 p.m.\, enjoy a sampling of spirit
 ual and real hors d’oeuvres and meet and share stories with your Temple 
 family. Then welcome Shabbat at 6:30 p.m. with a multigenerationa...
DTSTART;TZID=America/Toronto:20171020T181500
DTEND;TZID=America/Toronto:20171020T213000
END:VEVENT
END:VCALENDAR
