BEGIN:VCALENDAR
PRODID:-//eluceo/ical//2.0/EN
VERSION:2.0
CALSCALE:GREGORIAN
BEGIN:VEVENT
UID:d8fe5c00e9cdabfb62abc2d5195565ea
DTSTAMP:20260425T122425Z
SUMMARY:A Temple Sinai Program — Shabbat Shirim
DESCRIPTION:UJA Federation of Greater Toronto\nJewish Toronto Calendar\nhtt
 ps://jewishtoronto.com/calendar/a-temple-sinai-program--shabbat-shirim-147
 5693849\n\nA Temple Sinai Program — Shabbat Shirim Friday\, October 21  
 Start your Shabbat celebrations with the warm inviting sound of our soulfu
 l musical ensemble. Reflect on the week that has passed with thought-provo
 king questions that relate to the season. Bring your friends and family an
 d the will to sing! Time: At 6:15 p.m. 210 Wilson Avenue.
DTSTART;TZID=America/Toronto:20161021T181500
DTEND;TZID=America/Toronto:20161021T193000
END:VEVENT
END:VCALENDAR
