BEGIN:VCALENDAR
PRODID:-//eluceo/ical//2.0/EN
VERSION:2.0
CALSCALE:GREGORIAN
BEGIN:VEVENT
UID:c6f257186bac74842ed2d8ca7f6795fe
DTSTAMP:20260420T192146Z
SUMMARY:A Temple Sinai Program — Shabbat Shirah 
DESCRIPTION:UJA Federation of Greater Toronto\nJewish Toronto Calendar\nhtt
 ps://jewishtoronto.com/calendar/a-temple-sinai-program--shabbat-shirah-145
 3406165\n\nAs we celebrate this musical moment in the Torah\, come and joi
 n Temple Sinai in song for Shabbat Shirah\, the Shabbat of Singing. Our ca
 ntors together with the Temple Sinai Ensemble Choir will lead the congrega
 tion with extraordinary music honouring Moses and Miriam leading the Israe
 lites across the Sea of Reeds. Join us for the presentation of new synagog
 ue music by Cantor Charles Osborne\, including some world premiere perform
 ances. Time: 10:00 a.m. 210 Wilson Avenue.
DTSTART;TZID=America/Toronto:20160123T100000
DTEND;TZID=America/Toronto:20160123T120000
END:VEVENT
END:VCALENDAR
