BEGIN:VCALENDAR
PRODID:-//eluceo/ical//2.0/EN
VERSION:2.0
CALSCALE:GREGORIAN
BEGIN:VEVENT
UID:8803feb6e7920269f901a7cfcd20d7e6
DTSTAMP:20260419T180941Z
SUMMARY:A Temple Sinai Program — Rosh Hashanah Tot Service
DESCRIPTION:UJA Federation of Greater Toronto\nJewish Toronto Calendar\nhtt
 ps://jewishtoronto.com/calendar/a-temple-sinai-program--rosh-hashanah-tot-
 service-1566936482\n\nA Temple Sinai Program — Rosh Hashanah Tot Service
 \n\nJoin us for a family friendly service for children ages to 7. Time: 4:
 00 p.m. Open to the community. Registration is required. Register online a
 t templesinai.net/community-service\, call the Temple Office at 416-487-41
 61. 210 Wilson Avenue.
DTSTART;TZID=America/Toronto:20190930T160000
DTEND;TZID=America/Toronto:20190930T164500
END:VEVENT
END:VCALENDAR
