BEGIN:VCALENDAR
PRODID:-//eluceo/ical//2.0/EN
VERSION:2.0
CALSCALE:GREGORIAN
BEGIN:VEVENT
UID:10bbc7070b61c3e38820114e1ac028dd
DTSTAMP:20260424T085645Z
SUMMARY:A Temple Sinai Program — Rosh Hashanah — Tot Service
DESCRIPTION:UJA Federation of Greater Toronto\nJewish Toronto Calendar\nhtt
 ps://jewishtoronto.com/calendar/a-temple-sinai-program--rosh-hashanah--tot
 -service-1504823037\n\nTots explore the meaning of the Holy Days with shof
 ar blasts\, stories and song. This service is open to the community. www.t
 emplesinai.net
DTSTART;TZID=America/Toronto:20170921T160000
DTEND;TZID=America/Toronto:20170921T170000
END:VEVENT
END:VCALENDAR
