BEGIN:VCALENDAR
PRODID:-//eluceo/ical//2.0/EN
VERSION:2.0
CALSCALE:GREGORIAN
BEGIN:VEVENT
UID:9a7d72586e599cfe13491de0bc606d4b
DTSTAMP:20260422T155858Z
SUMMARY:A Temple Sinai Program - Reform Jewish Living Around the World
DESCRIPTION:UJA Federation of Greater Toronto\nJewish Toronto Calendar\nhtt
 ps://jewishtoronto.com/calendar/a-temple-sinai-program--reform-jewish-livi
 ng-around-the-world-1472149460\n\nSunday\, September 11\nA Temple Sinai Pr
 ogram — Reform Jewish Living Around the World\nReform Jews are charting 
 progressive pathways for Torah all around the world. Through the wonders o
 f teleconferencing\, we will hear from rabbis in Brazil\, France\, Russia 
 and Israel talk about day to day Reform Jewish living in their region. The
  conversation will be moderated by Rabbi Daniel Mikelberg and introduced b
 y our member and past president for the World Union for Progressive Judais
 m\, Austin Beutel....
DTSTART;TZID=America/Toronto:20160911T101500
DTEND;TZID=America/Toronto:20160911T120000
END:VEVENT
END:VCALENDAR
