BEGIN:VCALENDAR
PRODID:-//eluceo/ical//2.0/EN
VERSION:2.0
CALSCALE:GREGORIAN
BEGIN:VEVENT
UID:fc2d44a0347495b2761a7aa8ee45c0fc
DTSTAMP:20260424T100654Z
SUMMARY:A Temple Sinai Program:  Rabbi\, Run — Elliot Strom
DESCRIPTION:UJA Federation of Greater Toronto\nJewish Toronto Calendar\nhtt
 ps://jewishtoronto.com/calendar/a-temple-sinai-program--rabbi-run--elliot-
 strom-1461768514\n\nA Temple Sinai Program: Reading from his New Novel\, R
 abbi\, Run — Elliot Strom  Raised at Temple Sinai and currently Rabbi Em
 eritus of Shir Ami Congregation\, Newtown\, PA. Rabbi Strom will be here a
 t Temple Sinai to read from his wonderful new novel\, Rabbi\, Run\, to ans
 wer questions and to sign copies of the book. Copies of the book available
  on Amazon Kindle and at this event. A Novel Rabbi\, Run Elliot Strom. Tim
 e: 7:30 p.m. For more information\, please call the Temple Office at 416-4
 87-4161 ...
DTSTART;TZID=America/Toronto:20160516T193000
DTEND;TZID=America/Toronto:20160516T210000
END:VEVENT
END:VCALENDAR
