BEGIN:VCALENDAR
PRODID:-//eluceo/ical//2.0/EN
VERSION:2.0
CALSCALE:GREGORIAN
BEGIN:VEVENT
UID:b1bb4c7ef5aed4ae0995969e353e90f7
DTSTAMP:20260422T050248Z
SUMMARY:A Temple Sinai Program — New Voices: Young Leaders and Dramatic M
 oments
DESCRIPTION:UJA Federation of Greater Toronto\nJewish Toronto Calendar\nhtt
 ps://jewishtoronto.com/calendar/a-temple-sinai-program--new-voices-young-l
 eaders-and-dramatic-moments-1567007494\n\nA Temple Sinai Program — New V
 oices: Young Leaders and Dramatic Moments Through drama and song\, the Har
 old Green Jewish Theatre Company (HGJT) will take us on a journey that wil
 l explore our Jewish identity. We will hear from participants in our Next 
 Generation and Lech Lecha programs about their experiences on the March of
  the Living and our Teen Israel Exchange. Also\, other speakers will share
  personal narratives highlighting the varied nature of our Sinai community
 . Time: 3:45 p.m. Regis...
DTSTART;TZID=America/Toronto:20191009T154500
DTEND;TZID=America/Toronto:20191009T170000
END:VEVENT
END:VCALENDAR
