BEGIN:VCALENDAR
PRODID:-//eluceo/ical//2.0/EN
VERSION:2.0
CALSCALE:GREGORIAN
BEGIN:VEVENT
UID:c0c9ce61400622f16e6ac6a96d62cd53
DTSTAMP:20260424T152255Z
SUMMARY:A Temple Sinai Program — Let’s Dance! — Toronto Symphony Orch
 estra
DESCRIPTION:UJA Federation of Greater Toronto\nJewish Toronto Calendar\nhtt
 ps://jewishtoronto.com/calendar/a-temple-sinai-program--lets-dance--toront
 o-symphony-orchestra-1453406565\n\nPops maestro Jeff Tyzik and a cast of v
 ocalists and dancers present an afternoon of great music and beautiful mov
 ement. Cost: Members $50\; Guests $55 (includes bus transportation). Time:
  Matinee starts at 2:00 p.m. Bus departs from Temple Sinai (210 Wilson Ave
 nue) at 12:30 p.m. To register\, please call The Temple Office at 416-487-
 4161 or e-mail programs@templesinai.net.
DTSTART;TZID=America/Toronto:20160210T123000
DTEND;TZID=America/Toronto:20160210T170000
END:VEVENT
END:VCALENDAR
