BEGIN:VCALENDAR
PRODID:-//eluceo/ical//2.0/EN
VERSION:2.0
CALSCALE:GREGORIAN
BEGIN:VEVENT
UID:278750b8aec8000dfd4c1a34dba2721a
DTSTAMP:20260421T205131Z
SUMMARY:A Temple Sinai Program: L’Chaim — Let’s Toast the World! Tu B
 ’Shvat Seder
DESCRIPTION:UJA Federation of Greater Toronto\nJewish Toronto Calendar\nhtt
 ps://jewishtoronto.com/calendar/a-temple-sinai-program--lchaim--lets-toast
 -the-world-tu-bshvat-seder-1485184918\n\nThursday\, February 9\n\nA Temple
  Sinai Program — L’Chaim — Let’s Toast the World! Tu B’Shvat Sed
 er with a wine tasting complemented by an assortment of fruit\n\nIt’s tr
 aditional to celebrate Tu B’Shvat with an assortment of fruits and four 
 cups of wine. Our resident wine specialist Victor Moncarz will illustrate 
 for us the beauty of a variety of Israeli wines – one for every course o
 f our festive meal. What better way to celebrate the environment! Time: 7:
 00 p.m. Cost: Members...
DTSTART;TZID=America/Toronto:20170209T190000
DTEND;TZID=America/Toronto:20170209T210000
END:VEVENT
END:VCALENDAR
