BEGIN:VCALENDAR
PRODID:-//eluceo/ical//2.0/EN
VERSION:2.0
CALSCALE:GREGORIAN
BEGIN:VEVENT
UID:45892a22a06f99eb368e8d5616a136b3
DTSTAMP:20260422T153932Z
SUMMARY:A Temple Sinai Program — Israeli Culture Through the Arts
DESCRIPTION:UJA Federation of Greater Toronto\nJewish Toronto Calendar\nhtt
 ps://jewishtoronto.com/calendar/a-temple-sinai-program--israeli-culture-th
 rough-the-arts-1479757204\n\nWednesdays\, January 18\, 25 and February 1 a
 nd 8\n\nA Temple Sinai Program — Israeli Culture Through the Arts\n\nIn 
 addition to being the Jewish State\, Israel has also produced a lively cul
 ture of its own. Yossi Klein-Halevy has said\, “To understand Israel\, y
 ou have to listen to its soundtrack.” We shall listen to some contempora
 ry Israeli singers and songwriters and read some fascinating Israeli poetr
 y and literature. English translation will be provided. This will give us 
 a window into...
DTSTART;TZID=America/Toronto:20170118T190000
DTEND;TZID=America/Toronto:20170118T210000
END:VEVENT
END:VCALENDAR
