BEGIN:VCALENDAR
PRODID:-//eluceo/ical//2.0/EN
VERSION:2.0
CALSCALE:GREGORIAN
BEGIN:VEVENT
UID:3672a2c28fa81ccae15ca55cb2241d1f
DTSTAMP:20260422T152043Z
SUMMARY:A Temple Sinai Program — Harold Green Theatre Company Talk Back
DESCRIPTION:UJA Federation of Greater Toronto\nJewish Toronto Calendar\nhtt
 ps://jewishtoronto.com/calendar/a-temple-sinai-program--harold-green-theat
 re-company-talk-back-1485186670\n\nSunday\, April 23 A Temple Sinai Progra
 m — Harold Green Theatre Company Talk BackIn Freud’s Last Session\, le
 gendary psychoanalyst Dr. Sigmund Freud and the young\, rising scholar C.S
 . Lewis meet head-to-head in a fictitious battle of the mind. The play is 
 set in Freud’s home on the brink of England entering the war in 1939. Th
 is deeply touching play is filled with humour and wit and explores the min
 ds\, hearts and souls of two brilliant men addressing love\, sex and the g
 reatest questions o...
DTSTART;TZID=America/Toronto:20170423T101500
DTEND;TZID=America/Toronto:20170423T113000
END:VEVENT
END:VCALENDAR
