BEGIN:VCALENDAR
PRODID:-//eluceo/ical//2.0/EN
VERSION:2.0
CALSCALE:GREGORIAN
BEGIN:VEVENT
UID:95bf3957c6a153b5804efd60e9fd0286
DTSTAMP:20260423T212402Z
SUMMARY:A Temple Sinai Program — Friday Night Delights
DESCRIPTION:UJA Federation of Greater Toronto\nJewish Toronto Calendar\nhtt
 ps://jewishtoronto.com/calendar/a-temple-sinai-program--friday-night-delig
 hts-1504630568\n\nWell-known music educator\, Jordan Klapman will introduc
 e us to the world of Allan Sherman\, an American comedy writer who became 
 famous as a song parodist in the early 1960s and whose famous song: “Hel
 lo Muddah\, Hello Faddah” made him the unlikeliest pop star. Time: 6:30 
 p.m. Kabbalat Shabbat Service with the Shabbat Shirim Band\; 7:30 p.m. Sha
 bbat Dinner Together. Cost: Members: $25\; Non-members: $30. For more info
 rmation and to register\, please call the Temple Office at 416-487-4161 or
  email...
DTSTART;TZID=America/Toronto:20170908T183000
DTEND;TZID=America/Toronto:20170908T210000
END:VEVENT
END:VCALENDAR
