BEGIN:VCALENDAR
PRODID:-//eluceo/ical//2.0/EN
VERSION:2.0
CALSCALE:GREGORIAN
BEGIN:VEVENT
UID:5e29cc28c6d023d5868da1bee70e591f
DTSTAMP:20260423T062125Z
SUMMARY:A Temple Sinai Program — Friday Night Delights
DESCRIPTION:UJA Federation of Greater Toronto\nJewish Toronto Calendar\nhtt
 ps://jewishtoronto.com/calendar/a-temple-sinai-program--friday-night-delig
 hts-1495636531\n\nA Temple Sinai Program — Friday Night Delights\n\nJoin
  us for Kabbalat Shabbat Service with the Shabbat Shirim Band followed by 
 Wine & Dine Shabbat Dinner with Old Friends and New. Golf writer Lorne Rub
 enstein will share his stories about covering the game for more than 35 ye
 ars\, including his time co-authoring Tiger Woods’ new book about his la
 ndmark 12-shot victory in the 1997 Masters. Time: 6:30 p.m. Cost: Members:
  $30\; Non-members: $35. To reserve\, please call the Temple Office at 416
 -4...
DTSTART;TZID=America/Toronto:20170602T183000
DTEND;TZID=America/Toronto:20170602T203000
END:VEVENT
END:VCALENDAR
