BEGIN:VCALENDAR
PRODID:-//eluceo/ical//2.0/EN
VERSION:2.0
CALSCALE:GREGORIAN
BEGIN:VEVENT
UID:09081573ad4225e727ffb159c9d21f47
DTSTAMP:20260421T165947Z
SUMMARY:A Temple Sinai Program — Family Games and Havdalah Evening
DESCRIPTION:UJA Federation of Greater Toronto\nJewish Toronto Calendar\nhtt
 ps://jewishtoronto.com/calendar/a-temple-sinai-program--family-games-and-h
 avdalah-evening-1508956029\n\nJoin us as we play some good old-fashioned f
 amily games together and celebrate Havdalah. Games for all ages: Jenga\, L
 ego\, Bingo\, Snakes and Ladders and so much more. You can even bring your
  favourite family game and share it with us. Pizza dinner concluding with 
 Havdalah. Time: 4:30 p.m. Cost: $15 per family. For more information and t
 o register\, please call the Temple Office at 416-487-4161 or email progra
 ms@templesinai.net by Friday\, November 10 at noon. 
DTSTART;TZID=America/Toronto:20171111T163000
DTEND;TZID=America/Toronto:20171111T183000
END:VEVENT
END:VCALENDAR
