BEGIN:VCALENDAR
PRODID:-//eluceo/ical//2.0/EN
VERSION:2.0
CALSCALE:GREGORIAN
BEGIN:VEVENT
UID:e31200bc45d785122e302bc4635b8023
DTSTAMP:20260419T165539Z
SUMMARY:A Temple Sinai Program - Family Fun Religious School Open House
DESCRIPTION:UJA Federation of Greater Toronto\nJewish Toronto Calendar\nhtt
 ps://jewishtoronto.com/calendar/a-temple-sinai-program--family-fun-religio
 us-school-open-house-1472150823\n\nSunday\, September 18\nA Temple Sinai P
 rogram — Family Fun Religious School Open House\nJoin us for our opening
  day festivities that will include a pancake breakfast at 9.00 a.m. with e
 xhibitions of music\, Israeli folk dance and Krav Maga. Followed by a fun-
 filled family song session where we will also introduce our teachers and o
 ur new Israeli emissaries for the year. Celebrate the beginning of the new
  school year with games\, bounce houses\, and art projects. At 10.30 a.m.\
 , new families are ...
DTSTART;TZID=America/Toronto:20160918T103000
DTEND;TZID=America/Toronto:20160918T120000
END:VEVENT
END:VCALENDAR
