BEGIN:VCALENDAR
PRODID:-//eluceo/ical//2.0/EN
VERSION:2.0
CALSCALE:GREGORIAN
BEGIN:VEVENT
UID:0b4c2d824b3229fc1807a99803148206
DTSTAMP:20260424T005920Z
SUMMARY:A Temple Sinai Program — doc@desserts
DESCRIPTION:UJA Federation of Greater Toronto\nJewish Toronto Calendar\nhtt
 ps://jewishtoronto.com/calendar/a-temple-sinai-program--docdesserts-145651
 4223\n\nJoin us on Sunday for a riveting mix of truths\, untruths and cons
 equences. (Dis)Honesty: The Truth About Lies explores our human tendency t
 o entertain dishonest actions. Featuring the work of celebrated Israeli-bo
 rn psychologist and behavioural economist\, Dan Ariely\, the film weaves p
 ersonal stories\, expert opinions and captivating experiments to reveal th
 e complexities of dishonesty. We are delighted to present Rabbi Michael Do
 lgin in conversation with Israeli American Oscar winner\, Yael Mel...
DTSTART;TZID=America/Toronto:20160417T183000
DTEND;TZID=America/Toronto:20160417T220000
END:VEVENT
END:VCALENDAR
