BEGIN:VCALENDAR
PRODID:-//eluceo/ical//2.0/EN
VERSION:2.0
CALSCALE:GREGORIAN
BEGIN:VEVENT
UID:77915c2c3c7f2f8c2a91012b29dfb502
DTSTAMP:20260423T102114Z
SUMMARY:A Temple Sinai Program — Dancing with Lughnasa
DESCRIPTION:UJA Federation of Greater Toronto\nJewish Toronto Calendar\nhtt
 ps://jewishtoronto.com/calendar/a-temple-sinai-program--dancing-with-lughn
 asa-1488919820\n\nA Temple Sinai Program — Dancing with Lughnasa\, Irish
  Masterpiece Shaw Festival / Royal George TheatreIn the 1930s\, five unfor
 gettable women try to eke out an existence in Ireland. Each woman is fille
 d with passionate longing\; and yet they deal with it in their own\, diffe
 rent ways – except when they are all equally possessed by the spirit of 
 the dance. Barely twenty years after it won Olivier and Tony awards for Be
 st Play\, Brian Friel’s masterpiece is already acknowledged as a piece t
 ha...
DTSTART;TZID=America/Toronto:20170516T100000
DTEND;TZID=America/Toronto:20170516T170000
END:VEVENT
END:VCALENDAR
