BEGIN:VCALENDAR
PRODID:-//eluceo/ical//2.0/EN
VERSION:2.0
CALSCALE:GREGORIAN
BEGIN:VEVENT
UID:d2949b91fa042189b4d5453e62bd806e
DTSTAMP:20260421T085700Z
SUMMARY:A Temple Sinai Program — A Simple Twist of Faith
DESCRIPTION:UJA Federation of Greater Toronto\nJewish Toronto Calendar\nhtt
 ps://jewishtoronto.com/calendar/a-temple-sinai-program--a-simple-twist-of-
 faith-1460473767\n\nA Temple Sinai Program — A Simple Twist of Faith —
  Yom Hashoah Commemorative Concert with Evan Malach\nIn 2014\, Evan Malach
  staged an original musical\, A Simple Twist of Faith\, based on a true st
 ory of a family’s inspiring escape from Nazi Germany. Using music and th
 eatre\, Evan gives voice to the narrative of our people throughout the Sho
 ah. This concert version of the show will feature a team of artists and mu
 sicians telling the story of the play and sharing behind the scenes insigh
 ts ...
DTSTART;TZID=America/Toronto:20160501T140000
DTEND;TZID=America/Toronto:20160501T153000
END:VEVENT
END:VCALENDAR
