BEGIN:VCALENDAR
PRODID:-//eluceo/ical//2.0/EN
VERSION:2.0
CALSCALE:GREGORIAN
BEGIN:VEVENT
UID:0147f034effe9530b70cecfe074c8bb5
DTSTAMP:20260421T204446Z
SUMMARY:A Temple Sinai Program - Yom Kippur Afternoon Service
DESCRIPTION:UJA Federation of Greater Toronto\nJewish Toronto Calendar\nhtt
 ps://jewishtoronto.com/calendar/a-temple-sinai-program---yom-kippur-aftern
 oon-service-1535025016\n\nA Temple Sinai Program - Yom Kippur Afternoon Se
 rvice\nFeaturing the Temple Sinai Band with contemporary music and a creat
 ive approach to worship. Time: 2:30 p.m. This service is open to the commu
 nity. For more information\, visit us at www.templesinai.net. Picture iden
 tification will be required. 
DTSTART;TZID=America/Toronto:20180919T143000
DTEND;TZID=America/Toronto:20180919T154500
END:VEVENT
END:VCALENDAR
