BEGIN:VCALENDAR
PRODID:-//eluceo/ical//2.0/EN
VERSION:2.0
CALSCALE:GREGORIAN
BEGIN:VEVENT
UID:0005fdede9315f2efbdabf6747a43c9d
DTSTAMP:20260422T143754Z
SUMMARY:A Temple Sinai Program - Virtual Song and Story for Young Families
DESCRIPTION:UJA Federation of Greater Toronto\nJewish Toronto Calendar\nhtt
 ps://jewishtoronto.com/calendar/a-temple-sinai-program---virtual-song-and-
 story-for-young-families-1587918613\n\nA Temple Sinai Program - Virtual So
 ng and Story for Young FamiliesFriday mornings\, starting April 24\, at 11
 .00 a.m.\nTemple Sinai continues bring its family programming directly to 
 your home! Share the joy of celebrating Shabbat by connecting virtually wi
 th your friends and other Temple families. Strike up a chord for a communi
 ty sing along\, join an immersive story telling experience with Cantor Sha
 ron Brown-Levy and ignite the spirit of Shabbat together. Tune in for half
  an hour of fun-fille...
DTSTART;TZID=America/Toronto:20200424T110000
DTEND;TZID=America/Toronto:20200424T113000
END:VEVENT
END:VCALENDAR
