BEGIN:VCALENDAR
PRODID:-//eluceo/ical//2.0/EN
VERSION:2.0
CALSCALE:GREGORIAN
BEGIN:VEVENT
UID:75b34ecaf4123fa81b78fb64d3752f1f
DTSTAMP:20260424T003352Z
SUMMARY:A Temple Sinai Program - S’lichot Embracing Our Inner Hero
DESCRIPTION:UJA Federation of Greater Toronto\nJewish Toronto Calendar\nhtt
 ps://jewishtoronto.com/calendar/a-temple-sinai-program---slichot-embracing
 -our-inner-hero-1534171736\n\nA Temple Sinai Program - S’lichot Embracin
 g Our Inner Hero\n\nWho are the heroes in your life? In those moments when
  you needed a helping hand\, steady guidance or emotional support\, was th
 ere someone who stepped forward for you? Are there people whose example pr
 ovides direction to your life? And have you ever wanted to be more like th
 em\, to foster their positive qualities within yourself? Join us for a uni
 que spiritual experience\, Temple Sinai and its partner the Harold Green J
 ewish Theatre...
DTSTART;TZID=America/Toronto:20180901T210000
DTEND;TZID=America/Toronto:20180901T230000
END:VEVENT
END:VCALENDAR
