BEGIN:VCALENDAR
PRODID:-//eluceo/ical//2.0/EN
VERSION:2.0
CALSCALE:GREGORIAN
BEGIN:VEVENT
UID:d74ba836f0c1025d586141c2d35af412
DTSTAMP:20260419T152825Z
SUMMARY:A Temple Sinai Program - Rosh Hashanah Tot Service
DESCRIPTION:UJA Federation of Greater Toronto\nJewish Toronto Calendar\nhtt
 ps://jewishtoronto.com/calendar/a-temple-sinai-program---rosh-hashanah-tot
 -service-1535024283\n\nA Temple Sinai Program - Rosh Hashanah Tot Service\
 nJoin us for a family friendly service for children ages to 7. Time: 4:00 
 p.m. This service is open to the community. For more information\, visit u
 s at www.templesinai.net. Picture identification will be required. 
DTSTART;TZID=America/Toronto:20180910T160000
DTEND;TZID=America/Toronto:20180910T164500
END:VEVENT
END:VCALENDAR
