BEGIN:VCALENDAR
PRODID:-//eluceo/ical//2.0/EN
VERSION:2.0
CALSCALE:GREGORIAN
BEGIN:VEVENT
UID:c0de9411e87635ac0de751af424a8c4e
DTSTAMP:20260423T220220Z
SUMMARY:A Temple Sinai Next Gen Program (Ages 22 to 39): Baking and Breathi
 ng
DESCRIPTION:UJA Federation of Greater Toronto\nJewish Toronto Calendar\nhtt
 ps://jewishtoronto.com/calendar/a-temple-sinai-next-gen-program-ages-22-to
 -39-baking-and-breathing-1588942801\n\nA Temple Sinai Next Gen Program (Ag
 es 22 to 39): Baking and Breathing Friday\, May 22 at 11.30 a.m.  Grayson 
 Shnier will share how to make bread at home with the ingredients you on ha
 nd. For more information\, visit us online at www.templesinai.net or call 
 the Temple Office at 416-487-4161.
DTSTART;TZID=America/Toronto:20200522T113000
DTEND;TZID=America/Toronto:20200522T123000
END:VEVENT
END:VCALENDAR
