BEGIN:VCALENDAR
PRODID:-//eluceo/ical//2.0/EN
VERSION:2.0
CALSCALE:GREGORIAN
BEGIN:VEVENT
UID:7bc727f7e22a8213267456c22fcfc049
DTSTAMP:20260425T211618Z
SUMMARY:A Temple Sinai -  Bouncing Back from Adversity  with Dr. Jonathan G
 olden
DESCRIPTION:UJA Federation of Greater Toronto\nJewish Toronto Calendar\nhtt
 ps://jewishtoronto.com/calendar/a-temple-sinai----bouncing-back-from-adver
 sity--with-dr-jonathan-golden-1460054061\n\nPlease join us as we welcome D
 r. Jonathan Golden from JF&CS of Greater Toronto for an interactive and ve
 ry timely workshop on building resilience in our children and helping them
  “bounce back” from challenges and obstacles in their lives. Dr. Golde
 n holds a PhD in Clinical Psychology and is the Director of Clinical Servi
 ces at Jewish Family and Child. Time: 10:30 a.m. to 12:00 p.m. This event 
 is free and open to the public. To register\, please email programs@temple
 sinai.net or call Marcie...
DTSTART;TZID=America/Toronto:20160417T103000
DTEND;TZID=America/Toronto:20160417T120000
END:VEVENT
END:VCALENDAR
