BEGIN:VCALENDAR
PRODID:-//eluceo/ical//2.0/EN
VERSION:2.0
CALSCALE:GREGORIAN
BEGIN:VEVENT
UID:44677f12b2070aa812f3e48e7b8b0ebb
DTSTAMP:20260421T114514Z
SUMMARY:A Taste of Jewish Toronto: Past\, Present & Future
DESCRIPTION:UJA Federation of Greater Toronto\nJewish Toronto Calendar\nhtt
 ps://jewishtoronto.com/calendar/a-taste-of-jewish-toronto-past-present--fu
 ture-1762049691\n\nThis multi-experience event brings to life the bakeries
 \, delis\, and eateries that once defined community life—the places wher
 e people gathered to eat\, schmooze\, fall in love\, strike deals\, and ev
 en solve community challenges over shared plates. The night begins with a 
 gallery museum experience featuring historical visuals and content from ge
 nerations that built our Jewish food landscape\, delicious tastes inside a
  mini Shuk with a sampling of Jewish flavours\, and plenty of time to...
DTSTART;TZID=America/Toronto:20251118T190000
DTEND;TZID=America/Toronto:20251118T213000
END:VEVENT
END:VCALENDAR
