BEGIN:VCALENDAR
PRODID:-//eluceo/ical//2.0/EN
VERSION:2.0
CALSCALE:GREGORIAN
BEGIN:VEVENT
UID:983870996cdacf794a016c75340401d7
DTSTAMP:20260421T000830Z
SUMMARY:A Taste of Israel Through Wine at Beth Tikvah Synagogue
DESCRIPTION:UJA Federation of Greater Toronto\nJewish Toronto Calendar\nhtt
 ps://jewishtoronto.com/calendar/a-taste-of-israel-through-wine-at-beth-tik
 vah-synagogue-1453144827\n\nLet Mazel Wines wet your palette through the t
 aste of Israeli wines. An opportunity to learn how to choose fantastic win
 es from Israel for Purim and Passover.\n\nLight refreshments will be serve
 d.\n\n$10 for Members\; $15 for Non-Members.
DTSTART;TZID=America/Toronto:20160309T193000
DTEND;TZID=America/Toronto:20160309T213000
END:VEVENT
END:VCALENDAR
