BEGIN:VCALENDAR
PRODID:-//eluceo/ical//2.0/EN
VERSION:2.0
CALSCALE:GREGORIAN
BEGIN:VEVENT
UID:7580e7e99ccbeffcde4573bb8f942d6d
DTSTAMP:20260422T040904Z
SUMMARY:A Stone For Benjamin: Community In Barbados
DESCRIPTION:UJA Federation of Greater Toronto\nJewish Toronto Calendar\nhtt
 ps://jewishtoronto.com/calendar/a-stone-for-benjamin-community-in-barbados
 \n\nSpeaker: Fiona Gold Kroll
DTSTART;TZID=America/Toronto:20141022T200000
DTEND;TZID=America/Toronto:20141022T213000
END:VEVENT
END:VCALENDAR
