BEGIN:VCALENDAR
PRODID:-//eluceo/ical//2.0/EN
VERSION:2.0
CALSCALE:GREGORIAN
BEGIN:VEVENT
UID:6e46f8070d5dbf0baf1a221a33171bed
DTSTAMP:20260419T213910Z
SUMMARY:A Special Evening featuring Jonathan Medved
DESCRIPTION:UJA Federation of Greater Toronto\nJewish Toronto Calendar\nhtt
 ps://jewishtoronto.com/calendar/a-special-evening-featuring-jonathan-medve
 d\n\nIn the September\, 2008 NY Times Supplement “Israel at 60” Jonath
 an Medved was named one of the top 10 most influential Americans who have 
 impacted Israel. Medved has invested in over 100 Israeli startup companies
 \, helping 12 of them to get to valuations in excess of $100 Million dolla
 rs.
DTSTART;TZID=America/Toronto:20150119T193000
DTEND;TZID=America/Toronto:20150119T220000
END:VEVENT
END:VCALENDAR
