BEGIN:VCALENDAR
PRODID:-//eluceo/ical//2.0/EN
VERSION:2.0
CALSCALE:GREGORIAN
BEGIN:VEVENT
UID:b14d14e6cf93ddcdf5dfaab0bf5f03a7
DTSTAMP:20260422T031214Z
SUMMARY:A song of Psalms
DESCRIPTION:UJA Federation of Greater Toronto\nJewish Toronto Calendar\nhtt
 ps://jewishtoronto.com/calendar/a-song-of-psalms\n\nBack by popular demand
 \, please join us for a musical celebration featuring the beautiful music 
 of Diane Kaplan.\n\nFrom Moshav Yodefat in the Galil\, Israel\, Diane has 
 been performing acoustic folk and world music for over 35 years\, in Israe
 l\, the U.S. and Europe. Diane is a teacher\, composer\, musical workshop 
 leader\, and multi-faith / multi-cultural choir director\, whose music is 
 a vehicle for communication\, peace and healing.\n\nDiane will be performi
 ng many of her original compositions from...
DTSTART;TZID=America/Toronto:20141020T200000
DTEND;TZID=America/Toronto:20141022T220000
END:VEVENT
END:VCALENDAR
