BEGIN:VCALENDAR
PRODID:-//eluceo/ical//2.0/EN
VERSION:2.0
CALSCALE:GREGORIAN
BEGIN:VEVENT
UID:5b1d6f29cdc9ae38ad2e9ea6c17fa0a0
DTSTAMP:20260423T214914Z
SUMMARY:A SECOND NIGHT ADDED BY DEMAND!  ROM Speaks featuring Saul Rubinek
DESCRIPTION:UJA Federation of Greater Toronto\nJewish Toronto Calendar\nhtt
 ps://jewishtoronto.com/calendar/a-second-night-added-by-demand--rom-speaks
 -featuring-saul-rubinek-1736782402\n\nA UNIQUELY PERSONAL AND CREATIVE WAY
  TO COMMEMORATE HOLOCAUST REMEMBRANCE DAY 2025:\n\nA Dramatic Presentation
  by esteemed Canadian actor Saul Rubinek\, from his new play All in the Te
 lling.\n\n\nA mystery\, a comedy\, a love story\, and a story of miraculou
 s survival...All in the Telling travels through time and place and is abou
 t bridging the divides caused by intergenerational trauma.\nAll in theTell
 ing is Saul Rubinek’s love letter to his family\, the true story of the 
 Rubinek's across two...
DTSTART;TZID=America/Toronto:20250128T190000
DTEND;TZID=America/Toronto:20250128T220000
END:VEVENT
END:VCALENDAR
