BEGIN:VCALENDAR
PRODID:-//eluceo/ical//2.0/EN
VERSION:2.0
CALSCALE:GREGORIAN
BEGIN:VEVENT
UID:94193210e2213d92eb7ce2b60c15a1d0
DTSTAMP:20260422T050338Z
SUMMARY:A PEOPLEHOOD | AMIUT YEHUDIT
DESCRIPTION:UJA Federation of Greater Toronto\nJewish Toronto Calendar\nhtt
 ps://jewishtoronto.com/calendar/a-peoplehood--amiut-yehudit-1627513897\n\n
 A PEOPLEHOOD | AMIUT YEHUDIT is a multimedia immersive installation primar
 ily comprised of a nonlinear two-channel video. The work explores the comp
 lexity of contemporary Jewish identity in Toronto and the emotional impact
  of today’s insidious antisemitism within a community that celebrates it
 s identity in many forms. As well\, it examines and reflects how shared co
 llective memory provides shape to group identity.\n\nOperating as a cultur
 al anthropologist\, Marnie Salsky uses media ephemera t...
DTSTART;TZID=America/Toronto:20210804T130000
DTEND;TZID=America/Toronto:20210804T170000
END:VEVENT
END:VCALENDAR
