BEGIN:VCALENDAR
PRODID:-//eluceo/ical//2.0/EN
VERSION:2.0
CALSCALE:GREGORIAN
BEGIN:VEVENT
UID:28201e6741bbba3c9da9c11c2c97f9ed
DTSTAMP:20260420T072943Z
SUMMARY:A Night of Musical Theatre with Meir Briskman and Lishmoa El Harina
DESCRIPTION:UJA Federation of Greater Toronto\nJewish Toronto Calendar\nhtt
 ps://jewishtoronto.com/calendar/a-night-of-musical-theatre-with-meir-brisk
 man-and-lishmoa-el-harina-1664378438\n\nRenowned conductor Meir Briskman a
 nd the Lishmoa El Harina international choral ensemble invite you to an ev
 ening of Broadway hits with guest appearances by Cantors Moshe Fishel and 
 Sidney Ezer\, accompanied by pianist Asher Farber.\n\nPlease register here
 : https://bethtzedectoronto.shulcloud.com/form/night-of-musical-theatre.ht
 ml
DTSTART;TZID=America/Toronto:20221002T193000
DTEND;TZID=America/Toronto:20221002T210000
END:VEVENT
END:VCALENDAR
