BEGIN:VCALENDAR
PRODID:-//eluceo/ical//2.0/EN
VERSION:2.0
CALSCALE:GREGORIAN
BEGIN:VEVENT
UID:21ab1d693fe3cda1be4383a3aa45698b
DTSTAMP:20260422T195051Z
SUMMARY:A New Challenge: Marijuana Legalization and the Jewish Community
DESCRIPTION:UJA Federation of Greater Toronto\nJewish Toronto Calendar\nhtt
 ps://jewishtoronto.com/calendar/a-new-challenge-marijuana-legalization-and
 -the-jewish-community-1502231809\n\nMarijuana Legalization is a new challe
 nge for the Jewish community.\nFree Admission for Supporting Members. Annu
 al Membership: $36/family (payable at the door)
DTSTART;TZID=America/Toronto:20170910T190000
DTEND;TZID=America/Toronto:20170910T210000
END:VEVENT
END:VCALENDAR
