BEGIN:VCALENDAR
PRODID:-//eluceo/ical//2.0/EN
VERSION:2.0
CALSCALE:GREGORIAN
BEGIN:VEVENT
UID:38d4d2454f8ff894245fa1ed4187614d
DTSTAMP:20260424T183920Z
SUMMARY:Shaar Shalom Singles At Beth David - A New Beginning Dance
DESCRIPTION:UJA Federation of Greater Toronto\nJewish Toronto Calendar\nhtt
 ps://jewishtoronto.com/calendar/a-new-beginning-dance-1478751524\n\nThe Yo
 rk Jazz Ensemble- a 9 piece dance band with vocalist George Westerholm - w
 ill play music of the 40's\, 50's\, and 60's for your dancing and listenin
 g pleasure.
DTSTART;TZID=America/Toronto:20161113T193000
DTEND;TZID=America/Toronto:20161113T193000
END:VEVENT
END:VCALENDAR
