BEGIN:VCALENDAR
PRODID:-//eluceo/ical//2.0/EN
VERSION:2.0
CALSCALE:GREGORIAN
BEGIN:VEVENT
UID:98223a162a04abba82df5f39938df40a
DTSTAMP:20260423T032629Z
SUMMARY:Mental Health Awareness Panel
DESCRIPTION:UJA Federation of Greater Toronto\nJewish Toronto Calendar\nhtt
 ps://jewishtoronto.com/calendar/a-mental-health-awareness-panel\n\nA panel
  featuring various community professionals will be discussing mental healt
 h awareness during Jewish Disability and Awareness month.\n\nGuests: Dr. M
 ichael Kirzner MD\, Attending Physician at Baycrest Hospital Psychiatry U
 nit\; Diana Petrini\, Life and Leadership Coah\; Neilia Sherman MSW\, Clin
 ical Social Worker and Counsellor\n\nLight refreshments will be available.
DTSTART;TZID=America/Toronto:20200223T190000
DTEND;TZID=America/Toronto:20200223T210000
END:VEVENT
END:VCALENDAR
