BEGIN:VCALENDAR
PRODID:-//eluceo/ical//2.0/EN
VERSION:2.0
CALSCALE:GREGORIAN
BEGIN:VEVENT
UID:40911e4b808ae6dade23b8389223ebe1
DTSTAMP:20260423T000739Z
SUMMARY:A Kiss is Just a Kiss? Kabbalaistic Kissing\, Union and Redemption
DESCRIPTION:UJA Federation of Greater Toronto\nJewish Toronto Calendar\nhtt
 ps://jewishtoronto.com/calendar/a-kiss-is-just-a-kiss-kabbalaistic-kissing
 -union-and-redemption-1478017398\n\nJoel Hecker is Associate Professor of 
 Jewish Mysticism at the Reconstructionist Rabbinical College. He is the au
 thor of The Zohar: Pritzker Edition\, Vols. 11-12 (Stanford University Pre
 ss: 2016–2017)\, Mystical Bodies Mystical Meals: Eating and Embodiment i
 n Medieval Kabbalah (Wayne State University Press: 2005) and numerous publ
 ications concerning Jewish mysticism. Professor Hecker has been a fellow a
 t the Center for Advanced Judaic Studies at the University of Pennsylvania
  and at the...
DTSTART;TZID=America/Toronto:20161117T193000
DTEND;TZID=America/Toronto:20161117T213000
END:VEVENT
END:VCALENDAR
