BEGIN:VCALENDAR
PRODID:-//eluceo/ical//2.0/EN
VERSION:2.0
CALSCALE:GREGORIAN
BEGIN:VEVENT
UID:a267a6ec4c01c272daa6803ee8bf274b
DTSTAMP:20260422T000506Z
SUMMARY:A Historical Look at Jewish-Muslim Relations with J. R. Rothstein
DESCRIPTION:UJA Federation of Greater Toronto\nJewish Toronto Calendar\nhtt
 ps://jewishtoronto.com/calendar/a-historical-look-at-jewish-muslim-relatio
 ns-with-j-r-rothstein-1515192878\n\nA Temple Sinai Program: A Historical L
 ook at Jewish-Muslim Relations with J. R. Rothstein\, a Fulbright Visiting
  Scholar\n\nGo back in time and explore the history of the land of Israel 
 from the Bar Kochba rebellion to the Islamic invasion of the land in 638 C
 E. These early encounters in Arabia between Jews and Muslims impact relati
 ons today. J.R. Rothstein serves as a Steering Committee and Board Member 
 of AJC ACCESS where he is the former chair of the Jewish-Muslim Taskforce.
  Time: 7:00 p.m....
DTSTART;TZID=America/Toronto:20180118T190000
DTEND;TZID=America/Toronto:20180118T210000
END:VEVENT
END:VCALENDAR
