BEGIN:VCALENDAR
PRODID:-//eluceo/ical//2.0/EN
VERSION:2.0
CALSCALE:GREGORIAN
BEGIN:VEVENT
UID:fa5bfd0e0bed8c420870d56525f63c42
DTSTAMP:20260425T152623Z
SUMMARY:A Force for Positive Change\, Live Panel Discussion with Rabbi Dolg
 in
DESCRIPTION:UJA Federation of Greater Toronto\nJewish Toronto Calendar\nhtt
 ps://jewishtoronto.com/calendar/a-force-for-positive-change-live-panel-dis
 cussion-with-rabbi-dolgin-1612544406\n\nA Temple Sinai Program: Multicultu
 ralism — A Force for Positive Change\, Live Panel Discussion with Rabbi 
 Michael Dolgin Part 1: Friday\, February 5 at 8.00 p.m. and Part 2: Saturd
 ay\, February 6 at 6.00 p.m. In honour of UN World Interfaith Harmony Week
 \, join host Emamul Haque\, executive director\, TV Metro Mail\, for an in
 terfaith discussion on enhancing community cohesion and inclusivity. Guest
  speakers include: Rabbi Michael Dolgin\; Rev. Brian McIntosh\, Minister\,
  Bloordale United Church\, Eto...
DTSTART;TZID=America/Toronto:20210205T200000
DTEND;TZID=America/Toronto:20210205T210000
END:VEVENT
END:VCALENDAR
