BEGIN:VCALENDAR
PRODID:-//eluceo/ical//2.0/EN
VERSION:2.0
CALSCALE:GREGORIAN
BEGIN:VEVENT
UID:acb6a9fb56383b439c49d960da0a5d60
DTSTAMP:20260425T202515Z
SUMMARY:A Conversation with ETGAR KERET – (from Israel)
DESCRIPTION:UJA Federation of Greater Toronto\nJewish Toronto Calendar\nhtt
 ps://jewishtoronto.com/calendar/a-conversation-with-etgar-keret--from-isra
 el-1623780211\n\nTo register follow the link https://congregationconnect.t
 faforms.net/f/HBTEK\nFor more information go to  https://holyblossom.org/e
 tgar-keret-at-hbt/\n\nThis 2-part event is made possible by a generous gif
 t of sponsorship by Bonnie Lawrence Shear in memory of Mel Shear z&rsquo\;
 l and in honour of their shared love of Israel and Israeli authors\, and b
 y a generous gift of sponsorship by Jason Rosen
DTSTART;TZID=America/Toronto:20210707T120000
DTEND;TZID=America/Toronto:20210707T140000
END:VEVENT
END:VCALENDAR
