BEGIN:VCALENDAR
PRODID:-//eluceo/ical//2.0/EN
VERSION:2.0
CALSCALE:GREGORIAN
BEGIN:VEVENT
UID:9d09176b532adc5ff32b9ea4238b8b26
DTSTAMP:20260420T090050Z
SUMMARY:A Colourful Life: The art and drawing of Josh Silburt
DESCRIPTION:UJA Federation of Greater Toronto\nJewish Toronto Calendar\nhtt
 ps://jewishtoronto.com/calendar/a-colourful-life-the-art-and-drawing-of-jo
 sh-silburt-1503325055\n\nThe Gallery at the J\nAn exhibition of the politi
 cal cartoons and landscape paintings of the Canadian artist Josh Silburt (
 1914-1991) \nRalph Wintrob will be presenting a tie-in lecture about the h
 istory of political cartooning in Canada for on Thursday September 28 at 1
 :30pm.\n
DTSTART;TZID=America/Toronto:20170907T120000
DTEND;TZID=America/Toronto:20171001T120000
END:VEVENT
END:VCALENDAR
