BEGIN:VCALENDAR
PRODID:-//eluceo/ical//2.0/EN
VERSION:2.0
CALSCALE:GREGORIAN
BEGIN:VEVENT
UID:d856b548a3197acdfdfdfbc4563bde5a
DTSTAMP:20260424T081216Z
SUMMARY:A Better Way Forward for Israel's Security with Ret. General Amnon 
 Reshef
DESCRIPTION:UJA Federation of Greater Toronto\nJewish Toronto Calendar\nhtt
 ps://jewishtoronto.com/calendar/a-better-way-forward-for-israels-security-
 with-ret-general-amnon-reshef-1503948660\n\nOctober 24 @7:30 pm at Holy Bl
 ossom Temple\, 1950 Bathurst Street
DTSTART;TZID=America/Toronto:20171024T193000
DTEND;TZID=America/Toronto:20171024T220000
END:VEVENT
END:VCALENDAR
