BEGIN:VCALENDAR
PRODID:-//eluceo/ical//2.0/EN
VERSION:2.0
CALSCALE:GREGORIAN
BEGIN:VEVENT
UID:64c32a6ae79745e452649df799ee83a4
DTSTAMP:20260425T040700Z
SUMMARY:UJA Diller ICF Information Night
DESCRIPTION:UJA Federation of Greater Toronto\nJewish Toronto Calendar\nhtt
 ps://jewishtoronto.com/calendar/UJA-diller-icf-information-night\n\nUJA's 
 Diller ICF presents an information night on Monday\, September 13th. \n\n
 Please contact Jenna for more info.
DTSTART;TZID=America/Toronto:20210913T180000
DTEND;TZID=America/Toronto:20210913T190000
END:VEVENT
END:VCALENDAR
